BEGIN:VCALENDAR
X-LOTUS-CHARSET:UTF-8
VERSION:2.0
PRODID:ZMS-Berlin
METHOD:PUBLISH
BEGIN:VEVENT
UID:https://arbeit.wfbb.de/ical/event?id=3146-3146
CLASS:PUBLIC
DTSTAMP:20260420T143512
DTSTART;TZID=Europe/Berlin:20230913T080000Z
DTEND;TZID=Europe/Berlin:20230913T100000Z
LOCATION:Online,
SUMMARY:Informationsveranstaltung „Perspektive Job —Jugend in Ausbildung und Arbeit" 
DESCRIPTION:Informationsveranstaltung zur neuen Richtlinie des Ministeriums für Wirtschaft, Arbeit und Energie des Landes Brandenburg (MWAE) zur Förderung der Arbeitsmarktintegration junger von Arbeitslosigkeit bedrohter oder betroffener Fach-und Arbeitskräfte im Land Brandenburg in der EU-Förderperiode 2021-2027 „Perspektive Job - Jugend in Ausbildung und Arbeit" 
END:VEVENT
END:VCALENDAR
