BEGIN:VCALENDAR
X-LOTUS-CHARSET:UTF-8
VERSION:2.0
PRODID:ZMS-Berlin
METHOD:PUBLISH
BEGIN:VEVENT
UID:https://arbeit.wfbb.de/ical/event?id=3815-3815
CLASS:PUBLIC
DTSTAMP:20260424T101838
DTSTART;TZID=Europe/Berlin:20250524T080000Z
DTEND;TZID=Europe/Berlin:20250524T123000Z
LOCATION:Marktplatz 1, 14806, Bad Belzig, Marktplatz Bad Belzig,
SUMMARY:Ausbildungsmesse Bad Belzig – Level Up
DESCRIPTION:Die Wirtschaftsförderung der Stadt Bad Belzig, die Agentur für Arbeit und das Netzwerk Schule & Wirtschaftsforum PM freuen sich über zahlreiche Schüler, Schülerinnen, Eltern, Großeltern und weitere Interessierte. Nutzen Sie gern die Gelegenheit, sich über die Ausbildungsmöglichkeiten in und um Bad Belzig zu informieren.
END:VEVENT
END:VCALENDAR
