BEGIN:VCALENDAR
X-LOTUS-CHARSET:UTF-8
VERSION:2.0
PRODID:ZMS-Berlin
METHOD:PUBLISH
BEGIN:VEVENT
UID:https://arbeit.wfbb.de/ical/event?id=4143-4143
CLASS:PUBLIC
DTSTAMP:20260426T013639
DTSTART;TZID=Europe/Berlin:20260428T080000Z
DTEND;TZID=Europe/Berlin:20260428T133000Z
LOCATION:Karl-Liebknecht-Straße 24-25, 14476, Potsdam, Campus II Golm der Universität Potsdam - Haus 26 - Foyer,
SUMMARY:kompass Karrieremesse 2026
DESCRIPTION:Unter dem Motto „Navigate your future.“ treffen an diesem Tag Studierende, Absolvent:innen, Promovierende sowie Postdocs auf (über-)regionale Top-Arbeitgebende.
END:VEVENT
END:VCALENDAR
